BEGIN:VCALENDAR
VERSION:2.0
PRODID:-//wp-events-plugin.com//6.4.6.4//EN
BEGIN:VEVENT
UID:59@kothman.nl
DTSTART:20260423T183000Z
DTEND:20260423T230000Z
DTSTAMP:20260313T110957Z
URL:https://kothman.nl/events/dinnershow/
SUMMARY:Dinnershow | Kothman X Wine & Bite
DESCRIPTION:Kothman organiseert in samenwerking met Wine &amp\; Bite Oldenz
 aal een exclusieve en volledig verzorgde dinnershow.\nEen avond waarin cul
 inair genieten en live entertainment samenkomen in een unieke totaalbelevi
 ng.\n\nVan 18:30 tot 23:00 uur wordt u volledig ontzorgd tijdens een avond
  vol beleving. Geniet van een verfijnd 5-gangen diner\, met zorg samengest
 eld door Wine &amp\; Bite\, terwijl topartiesten u meenemen langs de groot
 ste hits uit de popgeschiedenis. Denk aan tijdloze klassiekers van onder a
 ndere Adele\, George Michael\, Michael Jackson\, Whitney Houston\, Prince\
 , Tina Turner en vele anderen. Een DJ zorgt ervoor dat de avond feestelijk
  wordt afgesloten.\n\nEen nieuw concept. Een exclusieve setting. All Inclu
 sive. Een avond om niet te missen. Wanneer één persoon meerdere tickets 
 bestelt (voor minimaal 2 pers. of een grotere groep)\, zorgen wij ervoor d
 at men gezamenlijk aan een tafel wordt geplaatst.
ATTACH;FMTTYPE=image/jpeg:https://kothman.nl/wp-content/uploads/2026/02/di
 nnershow-KMsite.jpg
CATEGORIES:Pink
LOCATION:https://mijnetickets.shop/kothman-vof/6989f0ec803aa
END:VEVENT
END:VCALENDAR