BEGIN:VCALENDAR
VERSION:2.0
PRODID:-//wp-events-plugin.com//6.4.6.4//EN
BEGIN:VEVENT
UID:22@kothman.nl
DTSTART;TZID=Europe/Amsterdam:20241005T203000
DTEND;TZID=Europe/Amsterdam:20241006T003000
DTSTAMP:20240828T121320Z
URL:https://kothman.nl/events/oktober-gala/
SUMMARY:Oktober Gala
DESCRIPTION:Oktober Gala 2024 voor iedereen die het leven lief heeft! De ka
 artverkoop is gestart en het gaat snel. Hier wil je bij zijn!
ATTACH;FMTTYPE=image/jpeg:https://kothman.nl/wp-content/uploads/2024/08/19
 20x1080-scaled.jpg
CATEGORIES:Groen
LOCATION:https://mijnetickets.shop/kiwanis-international-district-nederland
 /66426a614e79d
END:VEVENT
BEGIN:VTIMEZONE
TZID:Europe/Amsterdam
X-LIC-LOCATION:Europe/Amsterdam
BEGIN:DAYLIGHT
DTSTART:20240331T030000
TZOFFSETFROM:+0100
TZOFFSETTO:+0200
TZNAME:CEST
END:DAYLIGHT
END:VTIMEZONE
END:VCALENDAR